


BEGIN:VCALENDAR
VERSION:2.0
PRODID:-//IP.Board Calendar 4.3.6//EN
METHOD:PUBLISH
CALSCALE:GREGORIAN
X-WR-CALNAME:Deutschsprachige Community
BEGIN:VTIMEZONE
TZID:Europe/London
TZURL:http://tzurl.org/zoneinfo/Europe/London
X-LIC-LOCATION:Europe/London
BEGIN:DAYLIGHT
TZOFFSETFROM:+0000
TZOFFSETTO:+0100
TZNAME:BST
DTSTART:20170326T020000Z
RRULE:FREQ=YEARLY;BYMONTH=3;BYDAY=-1SU
END:DAYLIGHT
BEGIN:STANDARD
TZOFFSETFROM:+0100
TZOFFSETTO:+0000
TZNAME:GMT
DTSTART:20171029T020000Z
RRULE:FREQ=YEARLY;BYMONTH=10;BYDAY=-1SU
END:STANDARD
END:VTIMEZONE
BEGIN:VEVENT
SUMMARY:Wettbewerb zur Gamescom: Full Nelson
DTSTAMP:20170818T104300Z
SEQUENCE:0
UID:90-3-db55bb613aa7bcb9811e710b8b13dbb7@forum.worldofwarships.eu
ORGANIZER;CN="Sehales":no-reply@worldofwarships.eu
DESCRIPTION:\n\n	Hallo Kapitäne\,\n\n\n\n	 \n\n\n\n	meldet euch hier 
	für unseren in-game Wettbewerb an\, um mit etwas Glück ein Premium-Schif
	f während der gamsecom zu gewinnen!\n\n
DTSTART:20170822T050000Z
DTEND:20170826T215900Z
ATTENDEE;CN="KielerBube";CUTYPE=INDIVIDUAL;PARTSTAT=ACCEPTED
	:no-reply@worldofwarships.eu
ATTENDEE;CN="Ascaron806";CUTYPE=INDIVIDUAL;PARTSTAT=ACCEPTED
	:no-reply@worldofwarships.eu
ATTENDEE;CN="Iskaras";CUTYPE=INDIVIDUAL;PARTSTAT=ACCEPTED:no
	-reply@worldofwarships.eu
ATTENDEE;CN="S_Paule";CUTYPE=INDIVIDUAL;PARTSTAT=ACCEPTED:no
	-reply@worldofwarships.eu
ATTENDEE;CN="suppenkaschperl";CUTYPE=INDIVIDUAL;PARTSTAT=ACC
	EPTED:no-reply@worldofwarships.eu
ATTENDEE;CN="Tobnu";CUTYPE=INDIVIDUAL;PARTSTAT=ACCEPTED:no-r
	eply@worldofwarships.eu
ATTENDEE;CN="Commander_Cornflakes";CUTYPE=INDIVIDUAL;PARTSTA
	T=ACCEPTED:no-reply@worldofwarships.eu
ATTENDEE;CN="Strogom";CUTYPE=INDIVIDUAL;PARTSTAT=ACCEPTED:no
	-reply@worldofwarships.eu
ATTENDEE;CN="rips";CUTYPE=INDIVIDUAL;PARTSTAT=ACCEPTED:no-re
	ply@worldofwarships.eu
ATTENDEE;CN="WgPlsNerfMonarch";CUTYPE=INDIVIDUAL;PARTSTAT=AC
	CEPTED:no-reply@worldofwarships.eu
ATTENDEE;CN="Turbotom1999";CUTYPE=INDIVIDUAL;PARTSTAT=ACCEPT
	ED:no-reply@worldofwarships.eu
ATTENDEE;CN="Akanaut";CUTYPE=INDIVIDUAL;PARTSTAT=ACCEPTED:no
	-reply@worldofwarships.eu
ATTENDEE;CN="Majorbenny";CUTYPE=INDIVIDUAL;PARTSTAT=ACCEPTED
	:no-reply@worldofwarships.eu
ATTENDEE;CN="Ellcrys";CUTYPE=INDIVIDUAL;PARTSTAT=ACCEPTED:no
	-reply@worldofwarships.eu
ATTENDEE;CN="Erga_Buzerga";CUTYPE=INDIVIDUAL;PARTSTAT=ACCEPT
	ED:no-reply@worldofwarships.eu
ATTENDEE;CN="ItsCoolMan_";CUTYPE=INDIVIDUAL;PARTSTAT=ACCEPTE
	D:no-reply@worldofwarships.eu
ATTENDEE;CN="Mad_Skunky";CUTYPE=INDIVIDUAL;PARTSTAT=ACCEPTED
	:no-reply@worldofwarships.eu
ATTENDEE;CN="Swift94";CUTYPE=INDIVIDUAL;PARTSTAT=ACCEPTED:no
	-reply@worldofwarships.eu
ATTENDEE;CN="etec";CUTYPE=INDIVIDUAL;PARTSTAT=ACCEPTED:no-re
	ply@worldofwarships.eu
ATTENDEE;CN="Findender";CUTYPE=INDIVIDUAL;PARTSTAT=ACCEPTED:
	no-reply@worldofwarships.eu
ATTENDEE;CN="FlintSc";CUTYPE=INDIVIDUAL;PARTSTAT=ACCEPTED:no
	-reply@worldofwarships.eu
ATTENDEE;CN="Butterbrot_01";CUTYPE=INDIVIDUAL;PARTSTAT=ACCEP
	TED:no-reply@worldofwarships.eu
ATTENDEE;CN="Hauden_Lukas";CUTYPE=INDIVIDUAL;PARTSTAT=ACCEPT
	ED:no-reply@worldofwarships.eu
ATTENDEE;CN="Jureru";CUTYPE=INDIVIDUAL;PARTSTAT=ACCEPTED:no-
	reply@worldofwarships.eu
ATTENDEE;CN="Taurus";CUTYPE=INDIVIDUAL;PARTSTAT=ACCEPTED:no-
	reply@worldofwarships.eu
ATTENDEE;CN="ghostwater";CUTYPE=INDIVIDUAL;PARTSTAT=ACCEPTED
	:no-reply@worldofwarships.eu
ATTENDEE;CN="Boa64";CUTYPE=INDIVIDUAL;PARTSTAT=ACCEPTED:no-r
	eply@worldofwarships.eu
ATTENDEE;CN="das__Obst";CUTYPE=INDIVIDUAL;PARTSTAT=ACCEPTED:
	no-reply@worldofwarships.eu
ATTENDEE;CN="Kommunistischer_Goblin";CUTYPE=INDIVIDUAL;PARTS
	TAT=ACCEPTED:no-reply@worldofwarships.eu
ATTENDEE;CN="LordLattenjub";CUTYPE=INDIVIDUAL;PARTSTAT=ACCEP
	TED:no-reply@worldofwarships.eu
ATTENDEE;CN="DerKleineOrkan";CUTYPE=INDIVIDUAL;PARTSTAT=ACCE
	PTED:no-reply@worldofwarships.eu
ATTENDEE;CN="Meedox";CUTYPE=INDIVIDUAL;PARTSTAT=ACCEPTED:no-
	reply@worldofwarships.eu
ATTENDEE;CN="OLIndustries";CUTYPE=INDIVIDUAL;PARTSTAT=ACCEPT
	ED:no-reply@worldofwarships.eu
ATTENDEE;CN="Black_Baron_76";CUTYPE=INDIVIDUAL;PARTSTAT=ACCE
	PTED:no-reply@worldofwarships.eu
ATTENDEE;CN="Magua_49ners";CUTYPE=INDIVIDUAL;PARTSTAT=ACCEPT
	ED:no-reply@worldofwarships.eu
ATTENDEE;CN="shizzlemaster";CUTYPE=INDIVIDUAL;PARTSTAT=ACCEP
	TED:no-reply@worldofwarships.eu
ATTENDEE;CN="Killer_Cucumber";CUTYPE=INDIVIDUAL;PARTSTAT=ACC
	EPTED:no-reply@worldofwarships.eu
ATTENDEE;CN="zarter01";CUTYPE=INDIVIDUAL;PARTSTAT=ACCEPTED:n
	o-reply@worldofwarships.eu
ATTENDEE;CN="AhleBlaujacke";CUTYPE=INDIVIDUAL;PARTSTAT=ACCEP
	TED:no-reply@worldofwarships.eu
ATTENDEE;CN="Epic_Vampire";CUTYPE=INDIVIDUAL;PARTSTAT=ACCEPT
	ED:no-reply@worldofwarships.eu
ATTENDEE;CN="Sagittarium";CUTYPE=INDIVIDUAL;PARTSTAT=ACCEPTE
	D:no-reply@worldofwarships.eu
ATTENDEE;CN="Obinion";CUTYPE=INDIVIDUAL;PARTSTAT=ACCEPTED:no
	-reply@worldofwarships.eu
ATTENDEE;CN="SILENT_HUNTER_XX";CUTYPE=INDIVIDUAL;PARTSTAT=AC
	CEPTED:no-reply@worldofwarships.eu
ATTENDEE;CN="San_Andreas76";CUTYPE=INDIVIDUAL;PARTSTAT=ACCEP
	TED:no-reply@worldofwarships.eu
ATTENDEE;CN="camouflage_cat";CUTYPE=INDIVIDUAL;PARTSTAT=ACCE
	PTED:no-reply@worldofwarships.eu
ATTENDEE;CN="oX_Chris_Xo";CUTYPE=INDIVIDUAL;PARTSTAT=ACCEPTE
	D:no-reply@worldofwarships.eu
ATTENDEE;CN="God_of_Thunder667";CUTYPE=INDIVIDUAL;PARTSTAT=A
	CCEPTED:no-reply@worldofwarships.eu
ATTENDEE;CN="Gintao";CUTYPE=INDIVIDUAL;PARTSTAT=ACCEPTED:no-
	reply@worldofwarships.eu
ATTENDEE;CN="desTeufelsAdmiral";CUTYPE=INDIVIDUAL;PARTSTAT=A
	CCEPTED:no-reply@worldofwarships.eu
ATTENDEE;CN="Hi_im_Biff";CUTYPE=INDIVIDUAL;PARTSTAT=ACCEPTED
	:no-reply@worldofwarships.eu
ATTENDEE;CN="Gotenadler91";CUTYPE=INDIVIDUAL;PARTSTAT=ACCEPT
	ED:no-reply@worldofwarships.eu
ATTENDEE;CN="Jesushupfer";CUTYPE=INDIVIDUAL;PARTSTAT=ACCEPTE
	D:no-reply@worldofwarships.eu
ATTENDEE;CN="energyfreax";CUTYPE=INDIVIDUAL;PARTSTAT=ACCEPTE
	D:no-reply@worldofwarships.eu
ATTENDEE;CN="haniball_14";CUTYPE=INDIVIDUAL;PARTSTAT=ACCEPTE
	D:no-reply@worldofwarships.eu
ATTENDEE;CN="Ihre_Altersvorsorge";CUTYPE=INDIVIDUAL;PARTSTAT
	=ACCEPTED:no-reply@worldofwarships.eu
ATTENDEE;CN="Bazoroth";CUTYPE=INDIVIDUAL;PARTSTAT=ACCEPTED:n
	o-reply@worldofwarships.eu
ATTENDEE;CN="Thomkins";CUTYPE=INDIVIDUAL;PARTSTAT=ACCEPTED:n
	o-reply@worldofwarships.eu
ATTENDEE;CN="Zenthon02";CUTYPE=INDIVIDUAL;PARTSTAT=ACCEPTED:
	no-reply@worldofwarships.eu
ATTENDEE;CN="iron_marci";CUTYPE=INDIVIDUAL;PARTSTAT=ACCEPTED
	:no-reply@worldofwarships.eu
ATTENDEE;CN="marcellux";CUTYPE=INDIVIDUAL;PARTSTAT=ACCEPTED:
	no-reply@worldofwarships.eu
ATTENDEE;CN="Seeker11";CUTYPE=INDIVIDUAL;PARTSTAT=ACCEPTED:n
	o-reply@worldofwarships.eu
ATTENDEE;CN="Klossbruehe1994";CUTYPE=INDIVIDUAL;PARTSTAT=ACC
	EPTED:no-reply@worldofwarships.eu
ATTENDEE;CN="ScheiterhaeufchenFloe";CUTYPE=INDIVIDUAL;PARTST
	AT=ACCEPTED:no-reply@worldofwarships.eu
ATTENDEE;CN="maurice3232";CUTYPE=INDIVIDUAL;PARTSTAT=ACCEPTE
	D:no-reply@worldofwarships.eu
ATTENDEE;CN="Killefit";CUTYPE=INDIVIDUAL;PARTSTAT=ACCEPTED:n
	o-reply@worldofwarships.eu
ATTENDEE;CN="Andre_Prime";CUTYPE=INDIVIDUAL;PARTSTAT=ACCEPTE
	D:no-reply@worldofwarships.eu
ATTENDEE;CN="nitraMreD";CUTYPE=INDIVIDUAL;PARTSTAT=ACCEPTED:
	no-reply@worldofwarships.eu
ATTENDEE;CN="Nertaku";CUTYPE=INDIVIDUAL;PARTSTAT=ACCEPTED:no
	-reply@worldofwarships.eu
ATTENDEE;CN="bucht91U";CUTYPE=INDIVIDUAL;PARTSTAT=ACCEPTED:n
	o-reply@worldofwarships.eu
ATTENDEE;CN="FirEShoT";CUTYPE=INDIVIDUAL;PARTSTAT=ACCEPTED:n
	o-reply@worldofwarships.eu
ATTENDEE;CN="STupifyy";CUTYPE=INDIVIDUAL;PARTSTAT=ACCEPTED:n
	o-reply@worldofwarships.eu
ATTENDEE;CN="Luftballon";CUTYPE=INDIVIDUAL;PARTSTAT=ACCEPTED
	:no-reply@worldofwarships.eu
ATTENDEE;CN="Gryyff";CUTYPE=INDIVIDUAL;PARTSTAT=ACCEPTED:no-
	reply@worldofwarships.eu
ATTENDEE;CN="Against_the_current";CUTYPE=INDIVIDUAL;PARTSTAT
	=ACCEPTED:no-reply@worldofwarships.eu
ATTENDEE;CN="ded55";CUTYPE=INDIVIDUAL;PARTSTAT=ACCEPTED:no-r
	eply@worldofwarships.eu
ATTENDEE;CN="maceolo";CUTYPE=INDIVIDUAL;PARTSTAT=ACCEPTED:no
	-reply@worldofwarships.eu
ATTENDEE;CN="Zerberus73";CUTYPE=INDIVIDUAL;PARTSTAT=ACCEPTED
	:no-reply@worldofwarships.eu
ATTENDEE;CN="Yetzirah";CUTYPE=INDIVIDUAL;PARTSTAT=ACCEPTED:n
	o-reply@worldofwarships.eu
ATTENDEE;CN="Tattoowierter_KernAsi";CUTYPE=INDIVIDUAL;PARTST
	AT=ACCEPTED:no-reply@worldofwarships.eu
ATTENDEE;CN="ruffy29";CUTYPE=INDIVIDUAL;PARTSTAT=ACCEPTED:no
	-reply@worldofwarships.eu
END:VEVENT
END:VCALENDAR
