


BEGIN:VCALENDAR
VERSION:2.0
PRODID:-//IP.Board Calendar 4.3.6//EN
METHOD:PUBLISH
CALSCALE:GREGORIAN
X-WR-CALNAME:Türkçe Topluluk
BEGIN:VTIMEZONE
TZID:Europe/London
TZURL:http://tzurl.org/zoneinfo/Europe/London
X-LIC-LOCATION:Europe/London
BEGIN:DAYLIGHT
TZOFFSETFROM:+0000
TZOFFSETTO:+0100
TZNAME:BST
DTSTART:20170326T020000Z
RRULE:FREQ=YEARLY;BYMONTH=3;BYDAY=-1SU
END:DAYLIGHT
BEGIN:STANDARD
TZOFFSETFROM:+0100
TZOFFSETTO:+0000
TZNAME:GMT
DTSTART:20171029T020000Z
RRULE:FREQ=YEARLY;BYMONTH=10;BYDAY=-1SU
END:STANDARD
END:VTIMEZONE
BEGIN:VEVENT
SUMMARY:gamescom 2017
DTSTAMP:20170731T155112Z
SEQUENCE:0
UID:78-8-db55bb613aa7bcb9811e710b8b13dbb7@forum.worldofwarships.eu
ORGANIZER;CN="vuque":no-reply@worldofwarships.eu
DESCRIPTION:\n\n	\n\n\n\n	 \n\n\n\n	Salon 8'de yer alan standımıza ge
	lin ve bir merhaba diyin!\n\n\n\n	 \n\n\n\n	22 Ağustos Ticari ziyaretçi
	ler ve basına özel\n\n\n\n	23 – 24 Ağustos - 10:00-20:00 CEST\n\n\n
	\n	25 – 26 Ağustos- 09:00-20:00 CEST\n\n
DTSTART:20170822T080000Z
DTEND:20170826T180000Z
END:VEVENT
END:VCALENDAR
